BEGIN:VCALENDAR
VERSION:2.0
PRODID:-//Vänsterpartiet Kalmar län - ECPv6.15.17.1//NONSGML v1.0//EN
CALSCALE:GREGORIAN
METHOD:PUBLISH
X-WR-CALNAME:Vänsterpartiet Kalmar län
X-ORIGINAL-URL:https://kalmarlan.vansterpartiet.se
X-WR-CALDESC:Händelser för Vänsterpartiet Kalmar län
REFRESH-INTERVAL;VALUE=DURATION:PT1H
X-Robots-Tag:noindex
X-PUBLISHED-TTL:PT1H
BEGIN:VTIMEZONE
TZID:Europe/Stockholm
BEGIN:DAYLIGHT
TZOFFSETFROM:+0100
TZOFFSETTO:+0200
TZNAME:CEST
DTSTART:20140330T010000
END:DAYLIGHT
BEGIN:STANDARD
TZOFFSETFROM:+0200
TZOFFSETTO:+0100
TZNAME:CET
DTSTART:20141026T010000
END:STANDARD
BEGIN:DAYLIGHT
TZOFFSETFROM:+0100
TZOFFSETTO:+0200
TZNAME:CEST
DTSTART:20150329T010000
END:DAYLIGHT
BEGIN:STANDARD
TZOFFSETFROM:+0200
TZOFFSETTO:+0100
TZNAME:CET
DTSTART:20151025T010000
END:STANDARD
BEGIN:DAYLIGHT
TZOFFSETFROM:+0100
TZOFFSETTO:+0200
TZNAME:CEST
DTSTART:20160327T010000
END:DAYLIGHT
BEGIN:STANDARD
TZOFFSETFROM:+0200
TZOFFSETTO:+0100
TZNAME:CET
DTSTART:20161030T010000
END:STANDARD
BEGIN:DAYLIGHT
TZOFFSETFROM:+0100
TZOFFSETTO:+0200
TZNAME:CEST
DTSTART:20170326T010000
END:DAYLIGHT
BEGIN:STANDARD
TZOFFSETFROM:+0200
TZOFFSETTO:+0100
TZNAME:CET
DTSTART:20171029T010000
END:STANDARD
END:VTIMEZONE
BEGIN:VEVENT
DTSTART;VALUE=DATE:20160602
DTEND;VALUE=DATE:20160603
DTSTAMP:20260421T050526
CREATED:20151105T141035Z
LAST-MODIFIED:20170417T074929Z
UID:3158-1464825600-1464911999@kalmarlan.vansterpartiet.se
SUMMARY:Kongressen - Träff\, information från kongressen till alla medlemmar
DESCRIPTION:
URL:https://kalmarlan.vansterpartiet.se/event/kongressen-traff-information-fran-kongressen/
END:VEVENT
BEGIN:VEVENT
DTSTART;VALUE=DATE:20160522
DTEND;VALUE=DATE:20160523
DTSTAMP:20260421T050526
CREATED:20151105T140914Z
LAST-MODIFIED:20170417T074929Z
UID:3157-1463875200-1463961599@kalmarlan.vansterpartiet.se
SUMMARY:Kongressen - Träff med kongressombuden
DESCRIPTION:
URL:https://kalmarlan.vansterpartiet.se/event/kongressen-traff-med-kongressombuden/
END:VEVENT
BEGIN:VEVENT
DTSTART;VALUE=DATE:20160505
DTEND;VALUE=DATE:20160509
DTSTAMP:20260421T050526
CREATED:20151030T123121Z
LAST-MODIFIED:20170417T124954Z
UID:3080-1462406400-1462751999@kalmarlan.vansterpartiet.se
SUMMARY:Örebro - Kongress
DESCRIPTION:Kongress
URL:https://kalmarlan.vansterpartiet.se/event/kongress/
LOCATION:Örebro
END:VEVENT
BEGIN:VEVENT
DTSTART;VALUE=DATE:20160424
DTEND;VALUE=DATE:20160425
DTSTAMP:20260421T050526
CREATED:20151106T145023Z
LAST-MODIFIED:20170417T124951Z
UID:3172-1461456000-1461542399@kalmarlan.vansterpartiet.se
SUMMARY:Blomstermåla - Retorikutbildning
DESCRIPTION:
URL:https://kalmarlan.vansterpartiet.se/event/blomstermala-retorikutbildning/
END:VEVENT
BEGIN:VEVENT
DTSTART;VALUE=DATE:20160424
DTEND;VALUE=DATE:20160425
DTSTAMP:20260421T050526
CREATED:20151105T141302Z
LAST-MODIFIED:20151105T141302Z
UID:3159-1461456000-1461542399@kalmarlan.vansterpartiet.se
SUMMARY:Kongressen - Träff kongressgruppen
DESCRIPTION:
URL:https://kalmarlan.vansterpartiet.se/event/kongressen-traff-kongressgruppen-4/
END:VEVENT
BEGIN:VEVENT
DTSTART;TZID=Europe/Stockholm:20160418T180000
DTEND;TZID=Europe/Stockholm:20160418T210000
DTSTAMP:20260421T050526
CREATED:20160405T083907Z
LAST-MODIFIED:20160405T083907Z
UID:3275-1461002400-1461013200@kalmarlan.vansterpartiet.se
SUMMARY:Borgholm - Offentligt möte: Flyktingar en tillgång!
DESCRIPTION:Tal av riksdagsledamot Daniel Sestrejcic \nOrientalisk livemusik \nFika med orientaliska smaker \n  \n 
URL:https://kalmarlan.vansterpartiet.se/event/borgholm-offentligt-mote-flyktingar-en-tillgang/
LOCATION:Folkets hus Borgholm\, Storgatan 39\, Borgholm\, 387 34 
END:VEVENT
BEGIN:VEVENT
DTSTART;VALUE=DATE:20160417
DTEND;VALUE=DATE:20160418
DTSTAMP:20260421T050526
CREATED:20151105T124041Z
LAST-MODIFIED:20151105T124134Z
UID:3133-1460851200-1460937599@kalmarlan.vansterpartiet.se
SUMMARY:Kongressen - Träff kongressgruppen
DESCRIPTION:
URL:https://kalmarlan.vansterpartiet.se/event/kongressen-traff-kongressgruppen-3/
END:VEVENT
BEGIN:VEVENT
DTSTART;VALUE=DATE:20160410
DTEND;VALUE=DATE:20160411
DTSTAMP:20260421T050526
CREATED:20151105T123643Z
LAST-MODIFIED:20151105T123643Z
UID:3129-1460246400-1460332799@kalmarlan.vansterpartiet.se
SUMMARY:Kongressen - Träff för kongressgruppen
DESCRIPTION:
URL:https://kalmarlan.vansterpartiet.se/event/kongressen-traff-for-kongressgruppen/
END:VEVENT
BEGIN:VEVENT
DTSTART;VALUE=DATE:20160405
DTEND;VALUE=DATE:20160406
DTSTAMP:20260421T050526
CREATED:20151105T123547Z
LAST-MODIFIED:20151105T123547Z
UID:3128-1459814400-1459900799@kalmarlan.vansterpartiet.se
SUMMARY:Kongressen - Motionssvar
DESCRIPTION:
URL:https://kalmarlan.vansterpartiet.se/event/kongressen-motionssvar/
END:VEVENT
BEGIN:VEVENT
DTSTART;VALUE=DATE:20160324
DTEND;VALUE=DATE:20160325
DTSTAMP:20260421T050526
CREATED:20151105T123415Z
LAST-MODIFIED:20151105T123415Z
UID:3126-1458777600-1458863999@kalmarlan.vansterpartiet.se
SUMMARY:Kongressen - Sista dagen för anmälan
DESCRIPTION:
URL:https://kalmarlan.vansterpartiet.se/event/kongressen-sista-dagen-for-anmalan/
END:VEVENT
BEGIN:VEVENT
DTSTART;VALUE=DATE:20160312
DTEND;VALUE=DATE:20160313
DTSTAMP:20260421T050526
CREATED:20151103T152418Z
LAST-MODIFIED:20151103T152418Z
UID:3111-1457740800-1457827199@kalmarlan.vansterpartiet.se
SUMMARY:DÅK
DESCRIPTION:Distriktsårskonferens
URL:https://kalmarlan.vansterpartiet.se/event/dak/
END:VEVENT
BEGIN:VEVENT
DTSTART;VALUE=DATE:20160227
DTEND;VALUE=DATE:20160228
DTSTAMP:20260421T050526
CREATED:20151105T132510Z
LAST-MODIFIED:20151105T132703Z
UID:3151-1456531200-1456617599@kalmarlan.vansterpartiet.se
SUMMARY:Föreläsning - Västsahara\, föreläsare Lotta Johnsson Fornarve
DESCRIPTION:Lotta Johnsson Fornarve\,  riksdagsledamot från Oxelösund och representant i Europarådet\, föreläser om Västsahara.
URL:https://kalmarlan.vansterpartiet.se/event/forelasning-vastsahara-forelasare-lotta-johnsson-fornarve/
END:VEVENT
BEGIN:VEVENT
DTSTART;VALUE=DATE:20160219
DTEND;VALUE=DATE:20160220
DTSTAMP:20260421T050526
CREATED:20151105T132123Z
LAST-MODIFIED:20151105T132123Z
UID:3150-1455840000-1455926399@kalmarlan.vansterpartiet.se
SUMMARY:DÅK - Ombuden får utskick om verksamhetsplan mm.
DESCRIPTION:
URL:https://kalmarlan.vansterpartiet.se/event/dak-ombuden-far-utskick-om-verksamhetsplan-mm/
END:VEVENT
BEGIN:VEVENT
DTSTART;VALUE=DATE:20160218
DTEND;VALUE=DATE:20160219
DTSTAMP:20260421T050526
CREATED:20151105T132003Z
LAST-MODIFIED:20151105T132003Z
UID:3149-1455753600-1455839999@kalmarlan.vansterpartiet.se
SUMMARY:DS - Verksamhetsplan\, verksamhetsberättelse\, bokslut och motionssvar
DESCRIPTION:
URL:https://kalmarlan.vansterpartiet.se/event/ds-verksamhetsplan-verksamhetsberattelse-bokslut-och-motionssvar/
END:VEVENT
BEGIN:VEVENT
DTSTART;VALUE=DATE:20160124
DTEND;VALUE=DATE:20160125
DTSTAMP:20260421T050526
CREATED:20151105T130039Z
LAST-MODIFIED:20151105T130040Z
UID:3143-1453593600-1453679999@kalmarlan.vansterpartiet.se
SUMMARY:Vimmerby - Partiprogrammet (Malin Pettersson)
DESCRIPTION:
URL:https://kalmarlan.vansterpartiet.se/event/vimmerby-partiprogrammet-malin-pettersson-3/
END:VEVENT
BEGIN:VEVENT
DTSTART;VALUE=DATE:20160124
DTEND;VALUE=DATE:20160125
DTSTAMP:20260421T050526
CREATED:20151105T125834Z
LAST-MODIFIED:20151105T125834Z
UID:3140-1453593600-1453679999@kalmarlan.vansterpartiet.se
SUMMARY:Nybro - Partiprogrammet (Linda Fleetwood)
DESCRIPTION:
URL:https://kalmarlan.vansterpartiet.se/event/nybro-partiprogrammet-linda-fleetwood-3/
END:VEVENT
BEGIN:VEVENT
DTSTART;VALUE=DATE:20160123
DTEND;VALUE=DATE:20160124
DTSTAMP:20260421T050526
CREATED:20151105T125602Z
LAST-MODIFIED:20151105T125602Z
UID:3137-1453507200-1453593599@kalmarlan.vansterpartiet.se
SUMMARY:Oskarshamn - Partiprogrammet (Lars Holmgren)
DESCRIPTION:
URL:https://kalmarlan.vansterpartiet.se/event/oskarshamn-partiprogrammet-lars-holmgren-3/
END:VEVENT
BEGIN:VEVENT
DTSTART;TZID=Europe/Stockholm:20160120T180000
DTEND;TZID=Europe/Stockholm:20160120T203000
DTSTAMP:20260421T050526
CREATED:20151105T094655Z
LAST-MODIFIED:20151105T094655Z
UID:3124-1453312800-1453321800@kalmarlan.vansterpartiet.se
SUMMARY:Västervik/Oskarshamn/Kalmar – Ekoeko studiecirkel
DESCRIPTION:  \n\n\nInbjudan till studiecirkel – Politik för en rödgrön omställning\n\nI september presenterades slutrapporten\, Politik för en rödgrön omställning\, från Ekoeko-gruppen\, Vänsterpartiets arbetsgrupp i ekologisk ekonomi. Gruppens arbete är en av de mest djupgående programprocesser som har skett i Vänsterpartiet under modern tid och kommer att behandlas på partiets kongress som äger rum i maj. Med anledning av detta kommer distriktet att anordna en studiecirkel för att ge alla som är intresserade möjlighet att gå igenom rapporten och diskutera den med andra intresserade.\nCirkeln kommer att hållas via videomöten där man kan välja att delta från videomötesrum i Kalmar\, Oskarshamn eller Västervik.\n\nVi kommer att träffas under tre onsdagar mellan 18.00-20.30: 16 december\, 30 december och 20 januari.\n\nEkoeko-gruppens rapport består av tre delar uppdelat under Vår uppgift\, Våra utgångspunkter och Vår politik. Vid varje tillfälle behandlas en del. Inför varje tillfälle förväntas det därför att deltagarna har läst igenom det aktuella stycket i rapporten som hittas här:\nwww.vansterpartiet.se/assets/Politik_for_en_rodgron_omstallning_Slutrapport_Ekoeko.pdf\n\nCirkeln blir av under förutsättning att det kommer in tillräckligt många anmälningar. Det kommer också att behövas en ansvarig person i Västervik respektive Oskarshamn som ser till att hämta nyckel och fixa fika. Saknas detta på någon ort så blir det inget på den orten.\n\nAnmälan sker senast 30 november till kalmarlan@vansterpartiet. \n\nI anmälan ska följande anges: Namn\, epost-adress\, telefonnummer och på vilken ort du vill delta. Kan du tänka dig att vara ansvarig på din ort så ange gärna detta också.\n\n\nMvh\nKaj Raving\, cirkelledare
URL:https://kalmarlan.vansterpartiet.se/event/vastervikoskarshamnkalmar-ekoeko-studiecirkel-3/
END:VEVENT
BEGIN:VEVENT
DTSTART;VALUE=DATE:20160119
DTEND;VALUE=DATE:20160120
DTSTAMP:20260421T050526
CREATED:20151106T150706Z
LAST-MODIFIED:20151106T150706Z
UID:3173-1453161600-1453247999@kalmarlan.vansterpartiet.se
SUMMARY:DS - Motioner och nomineringar till kongressen
DESCRIPTION:
URL:https://kalmarlan.vansterpartiet.se/event/ds-motioner-och-nomineringar-till-kongressen/
END:VEVENT
BEGIN:VEVENT
DTSTART;VALUE=DATE:20160117
DTEND;VALUE=DATE:20160118
DTSTAMP:20260421T050526
CREATED:20151105T130020Z
LAST-MODIFIED:20151105T130020Z
UID:3142-1452988800-1453075199@kalmarlan.vansterpartiet.se
SUMMARY:Vimmerby - Partiprogrammet (Malin Pettersson)
DESCRIPTION:
URL:https://kalmarlan.vansterpartiet.se/event/vimmerby-partiprogrammet-malin-pettersson-2/
END:VEVENT
BEGIN:VEVENT
DTSTART;VALUE=DATE:20160117
DTEND;VALUE=DATE:20160118
DTSTAMP:20260421T050526
CREATED:20151105T125807Z
LAST-MODIFIED:20151105T125807Z
UID:3139-1452988800-1453075199@kalmarlan.vansterpartiet.se
SUMMARY:Nybro - Partiprogrammet (Linda Fleetwood)
DESCRIPTION:
URL:https://kalmarlan.vansterpartiet.se/event/nybro-partiprogrammet-linda-fleetwood-2/
END:VEVENT
BEGIN:VEVENT
DTSTART;VALUE=DATE:20160116
DTEND;VALUE=DATE:20160117
DTSTAMP:20260421T050526
CREATED:20151105T125541Z
LAST-MODIFIED:20151105T125541Z
UID:3136-1452902400-1452988799@kalmarlan.vansterpartiet.se
SUMMARY:Oskarshamn - Partiprogrammet (Lars Holmgren)
DESCRIPTION:
URL:https://kalmarlan.vansterpartiet.se/event/oskarshamn-partiprogrammet-lars-holmgren-2/
END:VEVENT
BEGIN:VEVENT
DTSTART;VALUE=DATE:20160110
DTEND;VALUE=DATE:20160111
DTSTAMP:20260421T050526
CREATED:20151105T130548Z
LAST-MODIFIED:20151105T130548Z
UID:3145-1452384000-1452470399@kalmarlan.vansterpartiet.se
SUMMARY:Vimmerby - Partiprogrammet (Malin Pettersson)
DESCRIPTION:
URL:https://kalmarlan.vansterpartiet.se/event/vimmerby-partiprogrammet-malin-pettersson-4/
END:VEVENT
BEGIN:VEVENT
DTSTART;VALUE=DATE:20160110
DTEND;VALUE=DATE:20160111
DTSTAMP:20260421T050526
CREATED:20151105T130345Z
LAST-MODIFIED:20151105T130345Z
UID:3144-1452384000-1452470399@kalmarlan.vansterpartiet.se
SUMMARY:Nybro - Partiprogrammet (Linda Fleetwood)
DESCRIPTION:
URL:https://kalmarlan.vansterpartiet.se/event/nybro-partiprogrammet-linda-fleetwood-4/
END:VEVENT
BEGIN:VEVENT
DTSTART;VALUE=DATE:20160109
DTEND;VALUE=DATE:20160110
DTSTAMP:20260421T050526
CREATED:20151105T125524Z
LAST-MODIFIED:20151105T125524Z
UID:3135-1452297600-1452383999@kalmarlan.vansterpartiet.se
SUMMARY:Oskarshamn - Partiprogrammet (Lars Holmgren)
DESCRIPTION:
URL:https://kalmarlan.vansterpartiet.se/event/oskarshamn-partiprogrammet-lars-holmgren/
END:VEVENT
BEGIN:VEVENT
DTSTART;TZID=Europe/Stockholm:20151230T180000
DTEND;TZID=Europe/Stockholm:20151230T203000
DTSTAMP:20260421T050526
CREATED:20151105T094528Z
LAST-MODIFIED:20151105T094528Z
UID:3123-1451498400-1451507400@kalmarlan.vansterpartiet.se
SUMMARY:Västervik/Oskarshamn/Kalmar - Ekoeko studiecirkel
DESCRIPTION:  \n\n\nInbjudan till studiecirkel – Politik för en rödgrön omställning\n\nI september presenterades slutrapporten\, Politik för en rödgrön omställning\, från Ekoeko-gruppen\, Vänsterpartiets arbetsgrupp i ekologisk ekonomi. Gruppens arbete är en av de mest djupgående programprocesser som har skett i Vänsterpartiet under modern tid och kommer att behandlas på partiets kongress som äger rum i maj. Med anledning av detta kommer distriktet att anordna en studiecirkel för att ge alla som är intresserade möjlighet att gå igenom rapporten och diskutera den med andra intresserade.\nCirkeln kommer att hållas via videomöten där man kan välja att delta från videomötesrum i Kalmar\, Oskarshamn eller Västervik.\n\nVi kommer att träffas under tre onsdagar mellan 18.00-20.30: 16 december\, 30 december och 20 januari.\n\nEkoeko-gruppens rapport består av tre delar uppdelat under Vår uppgift\, Våra utgångspunkter och Vår politik. Vid varje tillfälle behandlas en del. Inför varje tillfälle förväntas det därför att deltagarna har läst igenom det aktuella stycket i rapporten som hittas här:\nwww.vansterpartiet.se/assets/Politik_for_en_rodgron_omstallning_Slutrapport_Ekoeko.pdf\n\nCirkeln blir av under förutsättning att det kommer in tillräckligt många anmälningar. Det kommer också att behövas en ansvarig person i Västervik respektive Oskarshamn som ser till att hämta nyckel och fixa fika. Saknas detta på någon ort så blir det inget på den orten.\n\nAnmälan sker senast 30 november till kalmarlan@vansterpartiet. \n\nI anmälan ska följande anges: Namn\, epost-adress\, telefonnummer och på vilken ort du vill delta. Kan du tänka dig att vara ansvarig på din ort så ange gärna detta också.\n\n\nMvh\nKaj Raving\, cirkelledare
URL:https://kalmarlan.vansterpartiet.se/event/vastervikoskarshamnkalmar-ekoeko-studiecirkel-2/
END:VEVENT
BEGIN:VEVENT
DTSTART;TZID=Europe/Stockholm:20151216T180000
DTEND;TZID=Europe/Stockholm:20151216T203000
DTSTAMP:20260421T050526
CREATED:20151105T094412Z
LAST-MODIFIED:20151105T094412Z
UID:3122-1450288800-1450297800@kalmarlan.vansterpartiet.se
SUMMARY:Västervik/Oskarshamn/Kalmar - Ekoeko studiecirkel
DESCRIPTION:  \n\n\nInbjudan till studiecirkel – Politik för en rödgrön omställning\n\nI september presenterades slutrapporten\, Politik för en rödgrön omställning\, från Ekoeko-gruppen\, Vänsterpartiets arbetsgrupp i ekologisk ekonomi. Gruppens arbete är en av de mest djupgående programprocesser som har skett i Vänsterpartiet under modern tid och kommer att behandlas på partiets kongress som äger rum i maj. Med anledning av detta kommer distriktet att anordna en studiecirkel för att ge alla som är intresserade möjlighet att gå igenom rapporten och diskutera den med andra intresserade.\nCirkeln kommer att hållas via videomöten där man kan välja att delta från videomötesrum i Kalmar\, Oskarshamn eller Västervik.\n\nVi kommer att träffas under tre onsdagar mellan 18.00-20.30: 16 december\, 30 december och 20 januari.\n\nEkoeko-gruppens rapport består av tre delar uppdelat under Vår uppgift\, Våra utgångspunkter och Vår politik. Vid varje tillfälle behandlas en del. Inför varje tillfälle förväntas det därför att deltagarna har läst igenom det aktuella stycket i rapporten som hittas här:\nwww.vansterpartiet.se/assets/Politik_for_en_rodgron_omstallning_Slutrapport_Ekoeko.pdf\n\nCirkeln blir av under förutsättning att det kommer in tillräckligt många anmälningar. Det kommer också att behövas en ansvarig person i Västervik respektive Oskarshamn som ser till att hämta nyckel och fixa fika. Saknas detta på någon ort så blir det inget på den orten.\n\nAnmälan sker senast 30 november till kalmarlan@vansterpartiet. \n\nI anmälan ska följande anges: Namn\, epost-adress\, telefonnummer och på vilken ort du vill delta. Kan du tänka dig att vara ansvarig på din ort så ange gärna detta också.\n\n\nMvh\nKaj Raving\, cirkelledare
URL:https://kalmarlan.vansterpartiet.se/event/vastervikoskarshamnkalmar-ekoeko-studiecirkel/
END:VEVENT
BEGIN:VEVENT
DTSTART;VALUE=DATE:20151212
DTEND;VALUE=DATE:20151213
DTSTAMP:20260421T050526
CREATED:20151105T125016Z
LAST-MODIFIED:20151105T125251Z
UID:3134-1449878400-1449964799@kalmarlan.vansterpartiet.se
SUMMARY:DÅK - Sista dag för kallelse
DESCRIPTION:
URL:https://kalmarlan.vansterpartiet.se/event/dak-sista-dag-for-kallelse/
END:VEVENT
BEGIN:VEVENT
DTSTART;TZID=Europe/Stockholm:20151202T180000
DTEND;TZID=Europe/Stockholm:20151202T210000
DTSTAMP:20260421T050526
CREATED:20151030T125155Z
LAST-MODIFIED:20151030T125155Z
UID:3098-1449079200-1449090000@kalmarlan.vansterpartiet.se
SUMMARY:DS
DESCRIPTION:
URL:https://kalmarlan.vansterpartiet.se/event/ds/
END:VEVENT
BEGIN:VEVENT
DTSTART;VALUE=DATE:20151115
DTEND;VALUE=DATE:20151116
DTSTAMP:20260421T050526
CREATED:20151101T204620Z
LAST-MODIFIED:20151101T204718Z
UID:3108-1447545600-1447631999@kalmarlan.vansterpartiet.se
SUMMARY:Riks - Förslag till förändringar av partiprogrammet
DESCRIPTION:Vänsterpartiets kongress 2012 beslutade att initiera en bred diskussion om en socialistisk vision och strategi\, något partiets programkommission arbetat på och diskuterat med många både inom och utom Vänsterpartiet sedan dess. \nMed detta som utgångspunkt har programkommissionen nu lagt fram förslag till revideringar av partiprogrammet som du kan läsa om här. Det handlar till största delen om ändringar i partiprogrammets ”strategiska huvudlinjer”\, som nästan helt skrivs om. Vissa förändringar föreslås också i andra delar än strategiavsnittet i programmet. Tanken är nu att dessa förslag ska bedrivas studier kring och diskuteras i partiet. \nSynpunkter på förslagen kan skickas till politikutveckling@vansterpartiet.se fram till den 15 november. Efter det skickar programkommissionen ut sitt slutliga förslag till kongressbehandling. \nLadda ned förändringarna i strategidelen (pdf)\nLadda ned hela det reviderad partiprogrammet (pdf)
URL:https://kalmarlan.vansterpartiet.se/event/riks-forslag-till-forandringar-av-partiprogrammet/
END:VEVENT
END:VCALENDAR